BEGIN:VCALENDAR
VERSION:2.0
PRODID:-//Gladje - ECPv6.15.20//NONSGML v1.0//EN
CALSCALE:GREGORIAN
METHOD:PUBLISH
X-ORIGINAL-URL:https://gladjegallery.com
X-WR-CALDESC:Events for Gladje
REFRESH-INTERVAL;VALUE=DURATION:PT1H
X-Robots-Tag:noindex
X-PUBLISHED-TTL:PT1H
BEGIN:VTIMEZONE
TZID:UTC
BEGIN:STANDARD
TZOFFSETFROM:+0000
TZOFFSETTO:+0000
TZNAME:UTC
DTSTART:20250101T000000
END:STANDARD
END:VTIMEZONE
BEGIN:VEVENT
DTSTART;TZID=UTC:20260307T140000
DTEND;TZID=UTC:20260307T160000
DTSTAMP:20260421T051737
CREATED:20260117T203603Z
LAST-MODIFIED:20260222T004033Z
UID:10000296-1772892000-1772899200@gladjegallery.com
SUMMARY:Marketing for Artists: Social Media 101 - Sharing Your Work with the World
DESCRIPTION:You were not given your creativity to hide it. \nSo many talented artists quietly create beautiful work… yet never share it beyond their immediate circle. Not because they don’t care—but because technology feels intimidating\, self-promotion feels uncomfortable\, and the idea of “marketing” can feel completely out of alignment with a creative soul. \nThis gentle\, beginner-friendly workshop is here to change that! \nIn this class\, I’ll walk you step-by-step through setting up simple social media accounts (Facebook and Instagram)\, connecting them together\, and learning how to share your art in a way that feels authentic\, natural\, and true to who you are. We’ll focus on showcasing not just your finished pieces\, but the heart\, process\, and story behind them—because people don’t just connect with art\, they connect with the artist. \nWe’ll also talk about the emotional side of sharing:\n• The fear of being “seen”\n• Feeling awkward about posting\n• The disappointment when something doesn’t sell\n• The belief that you shouldn’t “put yourself out there” \nThis is not about becoming famous or chasing trends.\nThis is about honoring your gifts\, letting your work be witnessed\, and giving others the opportunity to connect with what you create. \nYou’ll leave with:\n✔ A Facebook and Instagram account set up and linked\n✔ A simple understanding of what to post (and when)\n✔ Easy photo tips using just your phone\n✔ Caption templates you can reuse again and again\n✔ A renewed confidence in sharing your art with the world \nYou don’t have to be tech-savvy. You don’t have to be perfect.\nYou just have to be willing to take one small step forward! \nYour art matters… and someone out there is waiting to see it. \nAttendees\, please bring: your phone\, tablet or laptop (if possible!) Otherwise there will be handouts for you to implement these steps at your home computer.
URL:https://gladjegallery.com/event/marketing-for-artists-social-media-101-sharing-your-work-with-the-world/
ATTACH;FMTTYPE=image/jpeg:https://gladjegallery.com/wp-content/uploads/2026/01/class-1-side-bar-image.jpg
END:VEVENT
BEGIN:VEVENT
DTSTART;TZID=UTC:20260321T140000
DTEND;TZID=UTC:20260321T160000
DTSTAMP:20260421T051737
CREATED:20260117T204136Z
LAST-MODIFIED:20260222T004111Z
UID:10000297-1774101600-1774108800@gladjegallery.com
SUMMARY:Marketing for Artists\, Part 2: Building Your Email List & Staying Connected
DESCRIPTION:Social media helps people discover you.\nEmail helps them stay connected to you. \nIn this second workshop\, we’ll take the next gentle step in sharing your work by building something even more personal: your own email list. \nAn email list is simply a way to stay in touch with the people who already love your art—past buyers\, collectors\, friends\, and those who feel connected to your creative voice. It allows you to share updates\, new pieces\, upcoming shows\, and your story… without algorithms\, pressure\, or noise. \nIn this class\, I’ll guide you step-by-step through:\n• Setting up a simple email platform (I’ll demonstrate using MailChimp)\n• Creating your first email list\n• Writing a warm\, human welcome message\n• Sending a simple monthly newsletter (no fancy design required)\n• Understanding how to lightly organize or “tag” your audience so you can stay connected to the people most interested in your work \nWe’ll also explore the idea of an optional “free gift” (such as a behind-the-scenes story\, printable\, or small creative offering) that people can receive when they join your list—shared in a way that feels generous\, not salesy. \nMost importantly\, we’ll talk about the heart behind email:\nThis is not about pushing people to buy.\nThis is about nurturing relationships\, staying visible\, and allowing your art to grow in the lives of others over time. \nYou’ll leave with:\n✔ A starting point on your email list\n✔ A simple welcome email written or drafted\n✔ A clear\, doable plan for staying in touch\n✔ Confidence in sharing without pressure or overwhelm \nYou are not “too late.”\nYou are not “bad at technology.”\nYou are simply an artist learning a new way to get your art into the hands & minds of others! \n*Note: This can be a stand-alone class and Part One is not a requirement to take this workshop. \nAttendees\, please bring: your phone\, tablet or laptop (if possible!) Otherwise there will be handouts for you to implement these steps at your home computer.
URL:https://gladjegallery.com/event/marketing-for-artists-part-2-building-your-email-list-staying-connected/
ATTACH;FMTTYPE=image/jpeg:https://gladjegallery.com/wp-content/uploads/2026/01/class-2-sidebar-image.jpg
END:VEVENT
END:VCALENDAR