BEGIN:VCALENDAR
VERSION:2.0
PRODID:-//Gladje - ECPv6.15.20//NONSGML v1.0//EN
CALSCALE:GREGORIAN
METHOD:PUBLISH
X-ORIGINAL-URL:https://gladjegallery.com
X-WR-CALDESC:Events for Gladje
REFRESH-INTERVAL;VALUE=DURATION:PT1H
X-Robots-Tag:noindex
X-PUBLISHED-TTL:PT1H
BEGIN:VTIMEZONE
TZID:UTC
BEGIN:STANDARD
TZOFFSETFROM:+0000
TZOFFSETTO:+0000
TZNAME:UTC
DTSTART:20250101T000000
END:STANDARD
END:VTIMEZONE
BEGIN:VEVENT
DTSTART;TZID=UTC:20260221T190000
DTEND;TZID=UTC:20260221T210000
DTSTAMP:20260424T021748
CREATED:20260114T203713Z
LAST-MODIFIED:20260117T000927Z
UID:10000295-1771700400-1771707600@gladjegallery.com
SUMMARY:Scandinavian Storytelling with Chad Filley
DESCRIPTION:Chad Filley is back at Gladje!  Join us for his hilarious stories that will bring you back to your roots.  Enjoy good company and Swedish treats in our cozy gallery for a night out you won’t forget.  Save your seats today!
URL:https://gladjegallery.com/event/scandinavian-storytelling/
LOCATION:Gladje Gallery
ATTACH;FMTTYPE=image/jpeg:https://gladjegallery.com/wp-content/uploads/2026/01/1676449172572844826.jpg
END:VEVENT
END:VCALENDAR